BEGIN:VCALENDAR
VERSION:2.0
PRODID:-//Golden Triangle Amateur Radio Club - ECPv6.15.20//NONSGML v1.0//EN
CALSCALE:GREGORIAN
METHOD:PUBLISH
X-WR-CALNAME:Golden Triangle Amateur Radio Club
X-ORIGINAL-URL:https://gtarc.org
X-WR-CALDESC:Events for Golden Triangle Amateur Radio Club
REFRESH-INTERVAL;VALUE=DURATION:PT1H
X-Robots-Tag:noindex
X-PUBLISHED-TTL:PT1H
BEGIN:VTIMEZONE
TZID:America/Los_Angeles
BEGIN:DAYLIGHT
TZOFFSETFROM:-0800
TZOFFSETTO:-0700
TZNAME:PDT
DTSTART:20250309T100000
END:DAYLIGHT
BEGIN:STANDARD
TZOFFSETFROM:-0700
TZOFFSETTO:-0800
TZNAME:PST
DTSTART:20251102T090000
END:STANDARD
BEGIN:DAYLIGHT
TZOFFSETFROM:-0800
TZOFFSETTO:-0700
TZNAME:PDT
DTSTART:20260308T100000
END:DAYLIGHT
BEGIN:STANDARD
TZOFFSETFROM:-0700
TZOFFSETTO:-0800
TZNAME:PST
DTSTART:20261101T090000
END:STANDARD
BEGIN:DAYLIGHT
TZOFFSETFROM:-0800
TZOFFSETTO:-0700
TZNAME:PDT
DTSTART:20270314T100000
END:DAYLIGHT
BEGIN:STANDARD
TZOFFSETFROM:-0700
TZOFFSETTO:-0800
TZNAME:PST
DTSTART:20271107T090000
END:STANDARD
END:VTIMEZONE
BEGIN:VEVENT
DTSTART;TZID=America/Los_Angeles:20260424T074500
DTEND;TZID=America/Los_Angeles:20260424T081500
DTSTAMP:20260424T025559
CREATED:20260312T202744Z
LAST-MODIFIED:20260312T213235Z
UID:10006367-1777016700-1777018500@gtarc.org
SUMMARY:Daily Net on the Keller Peak Repeater
DESCRIPTION:A daily net administered by GTARC member\, Judy Dean – NB6J on the Keller Peak Repeater (KE6TZG\, 146.385 + PL. 146.2) at 07:45AM every morning.
URL:https://gtarc.org/event/daily-net-on-the-keller-peak-repeater/2026-04-24/
LOCATION:CA
CATEGORIES:Radio Nets
END:VEVENT
BEGIN:VEVENT
DTSTART;TZID=America/Los_Angeles:20260425T074500
DTEND;TZID=America/Los_Angeles:20260425T081500
DTSTAMP:20260424T025559
CREATED:20260312T202744Z
LAST-MODIFIED:20260312T213235Z
UID:10006368-1777103100-1777104900@gtarc.org
SUMMARY:Daily Net on the Keller Peak Repeater
DESCRIPTION:A daily net administered by GTARC member\, Judy Dean – NB6J on the Keller Peak Repeater (KE6TZG\, 146.385 + PL. 146.2) at 07:45AM every morning.
URL:https://gtarc.org/event/daily-net-on-the-keller-peak-repeater/2026-04-25/
LOCATION:CA
CATEGORIES:Radio Nets
END:VEVENT
BEGIN:VEVENT
DTSTART;TZID=America/Los_Angeles:20260426T074500
DTEND;TZID=America/Los_Angeles:20260426T081500
DTSTAMP:20260424T025559
CREATED:20260312T202744Z
LAST-MODIFIED:20260312T213235Z
UID:10006369-1777189500-1777191300@gtarc.org
SUMMARY:Daily Net on the Keller Peak Repeater
DESCRIPTION:A daily net administered by GTARC member\, Judy Dean – NB6J on the Keller Peak Repeater (KE6TZG\, 146.385 + PL. 146.2) at 07:45AM every morning.
URL:https://gtarc.org/event/daily-net-on-the-keller-peak-repeater/2026-04-26/
LOCATION:CA
CATEGORIES:Radio Nets
END:VEVENT
BEGIN:VEVENT
DTSTART;TZID=America/Los_Angeles:20260427T074500
DTEND;TZID=America/Los_Angeles:20260427T081500
DTSTAMP:20260424T025559
CREATED:20260312T202744Z
LAST-MODIFIED:20260312T213235Z
UID:10006370-1777275900-1777277700@gtarc.org
SUMMARY:Daily Net on the Keller Peak Repeater
DESCRIPTION:A daily net administered by GTARC member\, Judy Dean – NB6J on the Keller Peak Repeater (KE6TZG\, 146.385 + PL. 146.2) at 07:45AM every morning.
URL:https://gtarc.org/event/daily-net-on-the-keller-peak-repeater/2026-04-27/
LOCATION:CA
CATEGORIES:Radio Nets
END:VEVENT
BEGIN:VEVENT
DTSTART;TZID=America/Los_Angeles:20260428T074500
DTEND;TZID=America/Los_Angeles:20260428T081500
DTSTAMP:20260424T025559
CREATED:20260312T202744Z
LAST-MODIFIED:20260312T213235Z
UID:10006371-1777362300-1777364100@gtarc.org
SUMMARY:Daily Net on the Keller Peak Repeater
DESCRIPTION:A daily net administered by GTARC member\, Judy Dean – NB6J on the Keller Peak Repeater (KE6TZG\, 146.385 + PL. 146.2) at 07:45AM every morning.
URL:https://gtarc.org/event/daily-net-on-the-keller-peak-repeater/2026-04-28/
LOCATION:CA
CATEGORIES:Radio Nets
END:VEVENT
BEGIN:VEVENT
DTSTART;TZID=America/Los_Angeles:20260428T193000
DTEND;TZID=America/Los_Angeles:20260428T203000
DTSTAMP:20260424T025559
CREATED:20260312T201513Z
LAST-MODIFIED:20260312T201513Z
UID:10005224-1777404600-1777408200@gtarc.org
SUMMARY:GTARC General Meeting
DESCRIPTION:Assistance League of Temecula Clubhouse\n28720 Vía Montezuma\nTemecula\, CA\n92590\nEvery 4th Tuesday of the Month\n7:30PM\n(Jan-Nov)
URL:https://gtarc.org/event/gtarc-general-meeting/2026-04-28/
LOCATION:Assistance League of Temecula\, 28720 Vía Montezuma\, Temecula\, CA\, 92590\, United States
CATEGORIES:General Meeting
END:VEVENT
BEGIN:VEVENT
DTSTART;TZID=America/Los_Angeles:20260429T074500
DTEND;TZID=America/Los_Angeles:20260429T081500
DTSTAMP:20260424T025559
CREATED:20260312T202744Z
LAST-MODIFIED:20260312T213235Z
UID:10006372-1777448700-1777450500@gtarc.org
SUMMARY:Daily Net on the Keller Peak Repeater
DESCRIPTION:A daily net administered by GTARC member\, Judy Dean – NB6J on the Keller Peak Repeater (KE6TZG\, 146.385 + PL. 146.2) at 07:45AM every morning.
URL:https://gtarc.org/event/daily-net-on-the-keller-peak-repeater/2026-04-29/
LOCATION:CA
CATEGORIES:Radio Nets
END:VEVENT
BEGIN:VEVENT
DTSTART;TZID=America/Los_Angeles:20260429T200000
DTEND;TZID=America/Los_Angeles:20260429T203000
DTSTAMP:20260424T025559
CREATED:20260312T201836Z
LAST-MODIFIED:20260312T213338Z
UID:10005287-1777492800-1777494600@gtarc.org
SUMMARY:GTARC 10M Radio Net
DESCRIPTION:10M – Wednesdays 8:00PM 28.360 MHz USB
URL:https://gtarc.org/event/gtarc-10m-radio-net/2026-04-29/
LOCATION:CA
CATEGORIES:Radio Nets
END:VEVENT
BEGIN:VEVENT
DTSTART;TZID=America/Los_Angeles:20260430T074500
DTEND;TZID=America/Los_Angeles:20260430T081500
DTSTAMP:20260424T025559
CREATED:20260312T202744Z
LAST-MODIFIED:20260312T213235Z
UID:10006373-1777535100-1777536900@gtarc.org
SUMMARY:Daily Net on the Keller Peak Repeater
DESCRIPTION:A daily net administered by GTARC member\, Judy Dean – NB6J on the Keller Peak Repeater (KE6TZG\, 146.385 + PL. 146.2) at 07:45AM every morning.
URL:https://gtarc.org/event/daily-net-on-the-keller-peak-repeater/2026-04-30/
LOCATION:CA
CATEGORIES:Radio Nets
END:VEVENT
BEGIN:VEVENT
DTSTART;TZID=America/Los_Angeles:20260430T193000
DTEND;TZID=America/Los_Angeles:20260430T200000
DTSTAMP:20260424T025559
CREATED:20260312T202008Z
LAST-MODIFIED:20260312T214220Z
UID:10005549-1777577400-1777579200@gtarc.org
SUMMARY:GTARC 2M Radio Net
DESCRIPTION:2M – Thursdays 7:30PM 146.805 MHz FM (-) PL 100.0
URL:https://gtarc.org/event/gtarc-2m-radio-net/2026-04-30/
LOCATION:CA
CATEGORIES:Radio Nets
END:VEVENT
BEGIN:VEVENT
DTSTART;TZID=America/Los_Angeles:20260430T200000
DTEND;TZID=America/Los_Angeles:20260430T203000
DTSTAMP:20260424T025559
CREATED:20260312T202144Z
LAST-MODIFIED:20260312T213832Z
UID:10005810-1777579200-1777581000@gtarc.org
SUMMARY:GTARC 70M Radio Net
DESCRIPTION:70CM – Following 2M Weekly 446.600 MHz FM (-) PL 100.0
URL:https://gtarc.org/event/gtarc-70m-radio-net/2026-04-30/
LOCATION:CA
CATEGORIES:Radio Nets
END:VEVENT
BEGIN:VEVENT
DTSTART;TZID=America/Los_Angeles:20260430T203000
DTEND;TZID=America/Los_Angeles:20260430T210000
DTSTAMP:20260424T025559
CREATED:20260312T202350Z
LAST-MODIFIED:20260312T213737Z
UID:10008158-1777581000-1777582800@gtarc.org
SUMMARY:GTARC 1.25CM Radio Net
DESCRIPTION:1.25CM – Following 70CM Weekly 224.600 MHz FM (-) PL 100.0
URL:https://gtarc.org/event/gtarc-1-25cm-radio-net/2026-04-30/
LOCATION:CA
CATEGORIES:Radio Nets
END:VEVENT
END:VCALENDAR